BEGIN:VCALENDAR
VERSION:2.0
PRODID:-//Summit Care Partners - ECPv6.15.20//NONSGML v1.0//EN
CALSCALE:GREGORIAN
METHOD:PUBLISH
X-WR-CALNAME:Summit Care Partners
X-ORIGINAL-URL:https://summitcarepartners.com
X-WR-CALDESC:Events for Summit Care Partners
REFRESH-INTERVAL;VALUE=DURATION:PT1H
X-Robots-Tag:noindex
X-PUBLISHED-TTL:PT1H
BEGIN:VTIMEZONE
TZID:America/New_York
BEGIN:DAYLIGHT
TZOFFSETFROM:-0500
TZOFFSETTO:-0400
TZNAME:EDT
DTSTART:20250309T070000
END:DAYLIGHT
BEGIN:STANDARD
TZOFFSETFROM:-0400
TZOFFSETTO:-0500
TZNAME:EST
DTSTART:20251102T060000
END:STANDARD
BEGIN:DAYLIGHT
TZOFFSETFROM:-0500
TZOFFSETTO:-0400
TZNAME:EDT
DTSTART:20260308T070000
END:DAYLIGHT
BEGIN:STANDARD
TZOFFSETFROM:-0400
TZOFFSETTO:-0500
TZNAME:EST
DTSTART:20261101T060000
END:STANDARD
BEGIN:DAYLIGHT
TZOFFSETFROM:-0500
TZOFFSETTO:-0400
TZNAME:EDT
DTSTART:20270314T070000
END:DAYLIGHT
BEGIN:STANDARD
TZOFFSETFROM:-0400
TZOFFSETTO:-0500
TZNAME:EST
DTSTART:20271107T060000
END:STANDARD
END:VTIMEZONE
BEGIN:VEVENT
DTSTART;TZID=America/New_York:20260420T190000
DTEND;TZID=America/New_York:20260420T203000
DTSTAMP:20260420T055513
CREATED:20260407T153529Z
LAST-MODIFIED:20260407T153529Z
UID:80738-1776711600-1776717000@summitcarepartners.com
SUMMARY:Facilitating the Conversation: Practical Tools for ACP in VA
DESCRIPTION:WEBINAR: \nExplore practical tools for advance care planning conversations with clients \n\n\n\n\nAdvance Care Planning is more than paperwork – it’s how we protect a client’s voice when they can’t speak for themselves. \nIn this month’s webinar\, we’ll review the core components of a Virginia advance directive\, key points from the Virginia Health Care Decisions Act\, and practical ways to guide values-based conversations with clients. \nPlease note: This event is free for members of the VA EOLD Collective. If you are a paid member of the Collective\, do not register / pay through this event listing. An email with the meeting information will be sent out the day before the event\, and a recording will be uploaded to the membership portal afterward. \n\nPlease sign up via the event website link below. \n 
URL:https://summitcarepartners.com/event/facilitating-the-conversation-practical-tools-for-acp-in-va/
LOCATION:Zoom\, VA\, United States
CATEGORIES:Advance Care Planning,Educational Presentation,End-of-Life Doula
ATTACH;FMTTYPE=image/png:https://summitcarepartners.com/wp-content/uploads/2026/04/Summit-Care-Partners-1.png
END:VEVENT
END:VCALENDAR